BEGIN:VCALENDAR
VERSION:2.0
PRODID:-//NZPTA - ECPv4.7.3//NONSGML v1.0//EN
CALSCALE:GREGORIAN
METHOD:PUBLISH
X-WR-CALNAME:NZPTA
X-ORIGINAL-URL:http://www.nzpta.org.nz
X-WR-CALDESC:Events for NZPTA
BEGIN:VEVENT
DTSTART;TZID=Pacific/Auckland:20190518T090000
DTEND;TZID=Pacific/Auckland:20190518T163000
DTSTAMP:20181221T202436
CREATED:20181215T192650Z
LAST-MODIFIED:20181215T192940Z
UID:4505-1558170000-1558197000@www.nzpta.org.nz
SUMMARY:Modern PTA Workshop & 2019 AGM
DESCRIPTION:A day of fun\, facts and fundraising ideas.\nWe are working on making this a workshop-type session where hands-on and voice-over will be the norm. \n\nWhat do you do as a group?\nWhat do others do as a group?\nWhy not find out!!! Exchange ideas and go home refreshed\, invigorated\, enthusiastic and raring to go!!\n\nPlan now to get at least 2 people to the workshop conference and AGM of NZPTA.\nAccording to our constitution we have to have an AGM but this will take very little time and will be quite straight forward. \nClick this to download the regestration form: Registration Form \n
URL:http://www.nzpta.org.nz/event/modern-pta-workshop-2019-agm/
LOCATION:Surrey Hotel – Auckland\, 465 Great North Rd\, Auckland\, 1021\, New Zealand
CATEGORIES:NZPTA Events
END:VEVENT
END:VCALENDAR